BEGIN:VCALENDAR
VERSION:2.0
PRODID:-//Ferrum College - ECPv6.15.18//NONSGML v1.0//EN
CALSCALE:GREGORIAN
METHOD:PUBLISH
X-ORIGINAL-URL:https://www.ferrum.edu
X-WR-CALDESC:Events for Ferrum College
REFRESH-INTERVAL;VALUE=DURATION:PT1H
X-Robots-Tag:noindex
X-PUBLISHED-TTL:PT1H
BEGIN:VTIMEZONE
TZID:America/New_York
BEGIN:DAYLIGHT
TZOFFSETFROM:-0500
TZOFFSETTO:-0400
TZNAME:EDT
DTSTART:20250309T070000
END:DAYLIGHT
BEGIN:STANDARD
TZOFFSETFROM:-0400
TZOFFSETTO:-0500
TZNAME:EST
DTSTART:20251102T060000
END:STANDARD
BEGIN:DAYLIGHT
TZOFFSETFROM:-0500
TZOFFSETTO:-0400
TZNAME:EDT
DTSTART:20260308T070000
END:DAYLIGHT
BEGIN:STANDARD
TZOFFSETFROM:-0400
TZOFFSETTO:-0500
TZNAME:EST
DTSTART:20261101T060000
END:STANDARD
BEGIN:DAYLIGHT
TZOFFSETFROM:-0500
TZOFFSETTO:-0400
TZNAME:EDT
DTSTART:20270314T070000
END:DAYLIGHT
BEGIN:STANDARD
TZOFFSETFROM:-0400
TZOFFSETTO:-0500
TZNAME:EST
DTSTART:20271107T060000
END:STANDARD
END:VTIMEZONE
BEGIN:VEVENT
DTSTART;TZID=America/New_York:20260324T080000
DTEND;TZID=America/New_York:20260324T080000
DTSTAMP:20260423T071545
CREATED:20260310T221714Z
LAST-MODIFIED:20260310T221941Z
UID:64161-1774339200-1774339200@www.ferrum.edu
SUMMARY:Agripalooza: Where Innovation Meets Tradition
DESCRIPTION:Ferrum College will host Agripalooza: Where Technology Meets Tradition on Tuesday\, March 24\, 2026\, in celebration of National Agriculture Day. Presented in partnership with the Virginia Small Business Development Center\, Greater Roanoke & NRV\, and Franklin County\, Virginia\, the in-person conference will bring together farmers\, entrepreneurs\, and community partners to explore innovation and opportunity in today’s agricultural economy. The Commonwealth’s Secretary of Agriculture and Forestry\, Katie Frazier\, will headline the program as the keynote speaker. \nRegistration for Agripalooza is $50 per person and includes access to all conference sessions\, networking opportunities\, light refreshments\, and lunch. Additional event details and registration information are available at the Virginia SBDC website at roanokesmallbusiness.org/agripalooza.
URL:https://www.ferrum.edu/event/agripalooza-where-innovation-meets-tradition/
LOCATION:Virginia
CATEGORIES:Academics,Alumni,Community
ATTACH;FMTTYPE=image/jpeg:https://www.ferrum.edu/wp-content/uploads/agripalooza.jpg
ORGANIZER;CN="Academic Affairs":MAILTO:hpturner@ferrum.edu
END:VEVENT
END:VCALENDAR