BEGIN:VCALENDAR
VERSION:2.0
PRODID:-//Ferrum College - ECPv6.15.18//NONSGML v1.0//EN
CALSCALE:GREGORIAN
METHOD:PUBLISH
X-ORIGINAL-URL:https://www.ferrum.edu
X-WR-CALDESC:Events for Ferrum College
REFRESH-INTERVAL;VALUE=DURATION:PT1H
X-Robots-Tag:noindex
X-PUBLISHED-TTL:PT1H
BEGIN:VTIMEZONE
TZID:America/New_York
BEGIN:DAYLIGHT
TZOFFSETFROM:-0500
TZOFFSETTO:-0400
TZNAME:EDT
DTSTART:20250309T070000
END:DAYLIGHT
BEGIN:STANDARD
TZOFFSETFROM:-0400
TZOFFSETTO:-0500
TZNAME:EST
DTSTART:20251102T060000
END:STANDARD
BEGIN:DAYLIGHT
TZOFFSETFROM:-0500
TZOFFSETTO:-0400
TZNAME:EDT
DTSTART:20260308T070000
END:DAYLIGHT
BEGIN:STANDARD
TZOFFSETFROM:-0400
TZOFFSETTO:-0500
TZNAME:EST
DTSTART:20261101T060000
END:STANDARD
BEGIN:DAYLIGHT
TZOFFSETFROM:-0500
TZOFFSETTO:-0400
TZNAME:EDT
DTSTART:20270314T070000
END:DAYLIGHT
BEGIN:STANDARD
TZOFFSETFROM:-0400
TZOFFSETTO:-0500
TZNAME:EST
DTSTART:20271107T060000
END:STANDARD
END:VTIMEZONE
BEGIN:VEVENT
DTSTART;TZID=America/New_York:20260418T110000
DTEND;TZID=America/New_York:20260418T140000
DTSTAMP:20260419T102513
CREATED:20260413T213719Z
LAST-MODIFIED:20260417T143237Z
UID:65083-1776510000-1776520800@www.ferrum.edu
SUMMARY:Spring Fling 2026
DESCRIPTION:What: Don’t miss one of the biggest events of the semester for the college community at Ferrum College. Spring Fling Festival is happening on Saturday\, April 18\, from 11 a.m. to 2 p.m. The Franklin Hall quad will be filled with music from DJ Hammer\, great food\, inflatables\, and a full lineup of clubs and organizations bringing the energy all afternoon. \nThe Social Work Club will be participating in the “Kindness in Chalk” initiative\, where students and community members can write motivational & encouraging words/statements to promote kindness and advocate for self-love on campus. The club will provide the chalk\, and people can write whatever their heart desires on the sidewalk to promote kindness\, send positive messages\, and provide a welcoming environment. \n \nWith lunch provided by Metz Culinary Management\, Kona Ice\, giveaways\, and something for everyone\, it’s the perfect chance to take a break\, connect with the community\, and make the most of this beautiful weather together. \n  \nWhen & Where: \nSaturday\, April 18\, 2026 \n11 a.m. until 2 p.m. \nFranklin Hall Quad \n 
URL:https://www.ferrum.edu/event/spring-fling/
LOCATION:Franklin Hall quad\, Ferrum College\, Ferrum\, VA\, United States
CATEGORIES:Student Affairs and Engagement
ATTACH;FMTTYPE=image/jpeg:https://www.ferrum.edu/wp-content/uploads/48642411527_8e6af6928c_k.jpg
ORGANIZER;CN="Student Affairs and Engagement":MAILTO:mlrooks@ferrum.edu
END:VEVENT
END:VCALENDAR