BEGIN:VCALENDAR
VERSION:2.0
PRODID:-//Ferrum College - ECPv6.15.18//NONSGML v1.0//EN
CALSCALE:GREGORIAN
METHOD:PUBLISH
X-ORIGINAL-URL:https://www.ferrum.edu
X-WR-CALDESC:Events for Ferrum College
REFRESH-INTERVAL;VALUE=DURATION:PT1H
X-Robots-Tag:noindex
X-PUBLISHED-TTL:PT1H
BEGIN:VTIMEZONE
TZID:America/New_York
BEGIN:DAYLIGHT
TZOFFSETFROM:-0500
TZOFFSETTO:-0400
TZNAME:EDT
DTSTART:20250309T070000
END:DAYLIGHT
BEGIN:STANDARD
TZOFFSETFROM:-0400
TZOFFSETTO:-0500
TZNAME:EST
DTSTART:20251102T060000
END:STANDARD
BEGIN:DAYLIGHT
TZOFFSETFROM:-0500
TZOFFSETTO:-0400
TZNAME:EDT
DTSTART:20260308T070000
END:DAYLIGHT
BEGIN:STANDARD
TZOFFSETFROM:-0400
TZOFFSETTO:-0500
TZNAME:EST
DTSTART:20261101T060000
END:STANDARD
BEGIN:DAYLIGHT
TZOFFSETFROM:-0500
TZOFFSETTO:-0400
TZNAME:EDT
DTSTART:20270314T070000
END:DAYLIGHT
BEGIN:STANDARD
TZOFFSETFROM:-0400
TZOFFSETTO:-0500
TZNAME:EST
DTSTART:20271107T060000
END:STANDARD
END:VTIMEZONE
BEGIN:VEVENT
DTSTART;TZID=America/New_York:20260417T160000
DTEND;TZID=America/New_York:20260417T160000
DTSTAMP:20260424T164838
CREATED:20260312T222342Z
LAST-MODIFIED:20260330T150230Z
UID:64289-1776441600-1776441600@www.ferrum.edu
SUMMARY:Academic Awards Ceremony
DESCRIPTION:The Ferrum College community will gather to celebrate academic excellence and achievement during the annual Academic Awards Ceremony beginning at 4:00 p.m. on Friday\, April 17\, in Vaughn Chapel. \nThis special event recognizes the outstanding accomplishments of Ferrum College students\, faculty\, and staff across a range of areas\, including academic achievement\, leadership\, service\, and campus engagement. The ceremony reflects the spirit of Ferrum’s guiding motto\, “Not Self\, But Others\,” and highlights the dedication\, scholarship\, and contributions that strengthen the College community. \nStudents\, faculty\, staff\, and guests are invited to attend as the College honors those who exemplify excellence both in and beyond the classroom.
URL:https://www.ferrum.edu/event/academic-awards-ceremony-2/
LOCATION:Vaughn Chapel\, 80 Wiley Dr.\, Ferrum\, United States
CATEGORIES:Academics,Alumni,Community
ATTACH;FMTTYPE=image/jpeg:https://www.ferrum.edu/wp-content/uploads/2025-Ferrum-Academic-Awards-Ceremony-Apr-11-0118-scaled.jpg
ORGANIZER;CN="Academic Affairs":MAILTO:hpturner@ferrum.edu
END:VEVENT
END:VCALENDAR