BEGIN:VCALENDAR
VERSION:2.0
PRODID:-//Ferrum College - ECPv6.15.18//NONSGML v1.0//EN
CALSCALE:GREGORIAN
METHOD:PUBLISH
X-WR-CALNAME:Ferrum College
X-ORIGINAL-URL:https://www.ferrum.edu
X-WR-CALDESC:Events for Ferrum College
REFRESH-INTERVAL;VALUE=DURATION:PT1H
X-Robots-Tag:noindex
X-PUBLISHED-TTL:PT1H
BEGIN:VTIMEZONE
TZID:America/New_York
BEGIN:DAYLIGHT
TZOFFSETFROM:-0500
TZOFFSETTO:-0400
TZNAME:EDT
DTSTART:20250309T070000
END:DAYLIGHT
BEGIN:STANDARD
TZOFFSETFROM:-0400
TZOFFSETTO:-0500
TZNAME:EST
DTSTART:20251102T060000
END:STANDARD
BEGIN:DAYLIGHT
TZOFFSETFROM:-0500
TZOFFSETTO:-0400
TZNAME:EDT
DTSTART:20260308T070000
END:DAYLIGHT
BEGIN:STANDARD
TZOFFSETFROM:-0400
TZOFFSETTO:-0500
TZNAME:EST
DTSTART:20261101T060000
END:STANDARD
BEGIN:DAYLIGHT
TZOFFSETFROM:-0500
TZOFFSETTO:-0400
TZNAME:EDT
DTSTART:20270314T070000
END:DAYLIGHT
BEGIN:STANDARD
TZOFFSETFROM:-0400
TZOFFSETTO:-0500
TZNAME:EST
DTSTART:20271107T060000
END:STANDARD
END:VTIMEZONE
BEGIN:VEVENT
DTSTART;TZID=America/New_York:20260411T113000
DTEND;TZID=America/New_York:20260411T150000
DTSTAMP:20260424T090107
CREATED:20260302T152548Z
LAST-MODIFIED:20260325T133546Z
UID:64021-1775907000-1775919600@www.ferrum.edu
SUMMARY:Ferrum College Lacrosse Alumni Gathering
DESCRIPTION:Ferrum College Women’s Lacrosse invites alumni\, families\, and supporters back to campus for our Women’s Lacrosse Alumni & Family Event! \n\nSaturday\, April 11\, 2026\nW.B. Adams Stadium\nCheck-in: 11:30–11:45 a.m.\nEvent Begins: 12:00 p.m.\n\nReconnect with former teammates\, meet our current Panthers\, and celebrate the program’s continued growth. Food and beverages will be provided! \nWe can’t wait to see you back in the Black and Gold! \nClick here to register!
URL:https://www.ferrum.edu/event/ferrum-college-lacrosse-alumni-gathering/
LOCATION:W.B. Adams Stadium\, State Route 602\, Ferrum\, VA\, 24088\, United States
CATEGORIES:Alumni,Athletics
ATTACH;FMTTYPE=image/jpeg:https://www.ferrum.edu/wp-content/uploads/ferrum_college_athletic_email_header_lacrosse.jpg
END:VEVENT
BEGIN:VEVENT
DTSTART;TZID=America/New_York:20260411T120000
DTEND;TZID=America/New_York:20260411T180000
DTSTAMP:20260424T090107
CREATED:20260313T155515Z
LAST-MODIFIED:20260318T204900Z
UID:64318-1775908800-1775930400@www.ferrum.edu
SUMMARY:Spring Football Alumni Gathering & Game
DESCRIPTION:Ferrum Football invites alumni and supporters back to campus for the Spring Game on Saturday\, April 11\, at W.B. Adams Stadium. Check-in and registration begin at 12:00 p.m. at the Hank Norton Center. The alumni gathering will begin at 1:00 p.m. in the Big Green Room\, followed by the Black Hat Walk on Bassett Field at 3:00 p.m.\, and the Spring Game in Adams Stadium at 4:00 p.m. The event will bring former players together to reconnect with teammates\, celebrate the proud tradition of Ferrum Football\, and cheer on the next generation of Black Hats as they take the field. \nThe Football program will also present its prestigious Big Green Award for the 2025 season\, honoring the player who best exemplifies the toughness\, leadership\, and commitment that define Ferrum Football. \nEnjoy a tailgating atmosphere with food\, beverages\, and fellowship with fellow members of the Black Hat Brotherhood. \nParking will be behind the stadium. The tent with food and beverages will be behind the stadium\, near the parking lot. \nClick here to register.
URL:https://www.ferrum.edu/event/spring-football-alumni-gathering-game/
LOCATION:W.B. Adams Stadium\, State Route 602\, Ferrum\, VA\, 24088\, United States
CATEGORIES:Alumni,Athletics
ATTACH;FMTTYPE=image/jpeg:https://www.ferrum.edu/wp-content/uploads/ferrum_college_athletic_email_header_football_16x9-scaled.jpg
ORGANIZER;CN="Office of Alumni and Families":MAILTO:alumni@ferrum.edu
END:VEVENT
END:VCALENDAR