BEGIN:VCALENDAR
VERSION:2.0
PRODID:-//Ferrum College - ECPv6.15.18//NONSGML v1.0//EN
CALSCALE:GREGORIAN
METHOD:PUBLISH
X-ORIGINAL-URL:https://www.ferrum.edu
X-WR-CALDESC:Events for Ferrum College
REFRESH-INTERVAL;VALUE=DURATION:PT1H
X-Robots-Tag:noindex
X-PUBLISHED-TTL:PT1H
BEGIN:VTIMEZONE
TZID:America/New_York
BEGIN:DAYLIGHT
TZOFFSETFROM:-0500
TZOFFSETTO:-0400
TZNAME:EDT
DTSTART:20250309T070000
END:DAYLIGHT
BEGIN:STANDARD
TZOFFSETFROM:-0400
TZOFFSETTO:-0500
TZNAME:EST
DTSTART:20251102T060000
END:STANDARD
BEGIN:DAYLIGHT
TZOFFSETFROM:-0500
TZOFFSETTO:-0400
TZNAME:EDT
DTSTART:20260308T070000
END:DAYLIGHT
BEGIN:STANDARD
TZOFFSETFROM:-0400
TZOFFSETTO:-0500
TZNAME:EST
DTSTART:20261101T060000
END:STANDARD
BEGIN:DAYLIGHT
TZOFFSETFROM:-0500
TZOFFSETTO:-0400
TZNAME:EDT
DTSTART:20270314T070000
END:DAYLIGHT
BEGIN:STANDARD
TZOFFSETFROM:-0400
TZOFFSETTO:-0500
TZNAME:EST
DTSTART:20271107T060000
END:STANDARD
END:VTIMEZONE
BEGIN:VEVENT
DTSTART;TZID=America/New_York:20260403T090000
DTEND;TZID=America/New_York:20260403T120000
DTSTAMP:20260424T140330
CREATED:20260324T172414Z
LAST-MODIFIED:20260401T132959Z
UID:64579-1775206800-1775217600@www.ferrum.edu
SUMMARY:Fast Track Visit Day
DESCRIPTION:Do everything in a day – come in for your Fast Track visit!\nSchedule one day to come in and get your application done\, your financial aid finished\, and everything else checked off the list. You’ll get your entire admission process completed in just a single day. \nRegister Now.
URL:https://www.ferrum.edu/event/fast-track-visit-day/
LOCATION:Admissions\, Spillman-Daniels House\, Ferrum\, 24088\, United States
CATEGORIES:Admissions
ATTACH;FMTTYPE=image/jpeg:https://www.ferrum.edu/wp-content/uploads/FerrumCollegeRAW-445-1.jpg
ORGANIZER;CN="Admissions":MAILTO:admissions@ferrum.edu
END:VEVENT
BEGIN:VEVENT
DTSTART;TZID=America/New_York:20260403T190000
DTEND;TZID=America/New_York:20260403T213000
DTSTAMP:20260424T140330
CREATED:20260116T192655Z
LAST-MODIFIED:20260403T203420Z
UID:62596-1775242800-1775251800@www.ferrum.edu
SUMMARY:Oldtime Dance and Flatfoot Contest
DESCRIPTION:Lots of folks remember dances in the lower level of Schoolfield Hall years ago\, and the legendary local oldtime group Twin Creeks Stringband is ready to do it up right on April 3. Come join us in the Rex Stephenson Theatre on the campus at Ferrum College for an evening of hot tunes and flatfoot dancing! \nThis event scheduled in January has been postponed until April 3. So you have more time to practice your dance moves! \nHosted by Appalachian Music at Ferrum College \nAll are welcome. The Rex Stephenson Theatre is in the lower level of Schoolfield Hall\, accessible by elevator or stairs from the ground-level entrance on the side of the building facing the main campus. \n$7 for adults\nFREE for kids under 12 and for Ferrum College students\, staff\, and faculty \nNo extra charge to enter the contest!
URL:https://www.ferrum.edu/event/62596/
LOCATION:The Rex Stephenson Theatre – Schoolfield Hall\, 215 Ferrum Mountain Rd\, Ferrum\, VA\, 24088-2611\, United States
ATTACH;FMTTYPE=image/jpeg:https://www.ferrum.edu/wp-content/uploads/Flatfoot-contest-April-3-2026.jpg
ORGANIZER;CN="Appalachian Music at Ferrum College":MAILTO:ebtucker@ferrum.edu
END:VEVENT
END:VCALENDAR