BEGIN:VCALENDAR
VERSION:2.0
PRODID:-//Ferrum College - ECPv6.15.18//NONSGML v1.0//EN
CALSCALE:GREGORIAN
METHOD:PUBLISH
X-ORIGINAL-URL:https://www.ferrum.edu
X-WR-CALDESC:Events for Ferrum College
REFRESH-INTERVAL;VALUE=DURATION:PT1H
X-Robots-Tag:noindex
X-PUBLISHED-TTL:PT1H
BEGIN:VTIMEZONE
TZID:America/New_York
BEGIN:DAYLIGHT
TZOFFSETFROM:-0500
TZOFFSETTO:-0400
TZNAME:EDT
DTSTART:20250309T070000
END:DAYLIGHT
BEGIN:STANDARD
TZOFFSETFROM:-0400
TZOFFSETTO:-0500
TZNAME:EST
DTSTART:20251102T060000
END:STANDARD
BEGIN:DAYLIGHT
TZOFFSETFROM:-0500
TZOFFSETTO:-0400
TZNAME:EDT
DTSTART:20260308T070000
END:DAYLIGHT
BEGIN:STANDARD
TZOFFSETFROM:-0400
TZOFFSETTO:-0500
TZNAME:EST
DTSTART:20261101T060000
END:STANDARD
BEGIN:DAYLIGHT
TZOFFSETFROM:-0500
TZOFFSETTO:-0400
TZNAME:EDT
DTSTART:20270314T070000
END:DAYLIGHT
BEGIN:STANDARD
TZOFFSETFROM:-0400
TZOFFSETTO:-0500
TZNAME:EST
DTSTART:20271107T060000
END:STANDARD
END:VTIMEZONE
BEGIN:VEVENT
DTSTART;TZID=America/New_York:20260401T113000
DTEND;TZID=America/New_York:20260401T123000
DTSTAMP:20260425T091605
CREATED:20260312T222708Z
LAST-MODIFIED:20260313T133553Z
UID:64290-1775043000-1775046600@www.ferrum.edu
SUMMARY:Pet-a-Puppet: Past\, Present and Future
DESCRIPTION:The campus community and the public are invited to attend Pet-a-Puppet: Past\, Present and Future on April 1 from 11:30 a.m. to 12:30 p.m. It will be held outside Schoolfield Hall (weather permitting) as part of the Inquiring Minds discussion series. Attendees will be able to view and manipulate a variety of puppets created and collected by Assistant Professor of Theatre Arts Rebecca Crocker and her students\, as well as discussing upcoming opportunities to build and perform puppets. \n \nClick here for more photos of puppets on campus. \nClick here for Cardinal News article by Lindsey Hull on making of the puppets and 2023 production of Emmet Otter’s Jug-Band Christmas. \nClick here to read about Crocker’s upcoming summer fellowship to develop a new puppetry project. \nPhotograph from Emmet Otter’s Jug-Band Christmas in 2025 courtesy of Dr. Bob Pohlad.\nPhotograph from Pet-a-Puppet 2025 by Dr. Tina Hanlon.
URL:https://www.ferrum.edu/event/pet-a-puppet-past-present-and-future/
LOCATION:Schoolfield Hall\, Wiley Drive\, Ferrum\, VA\, VA\, 24088\, United States
ATTACH;FMTTYPE=image/jpeg:https://www.ferrum.edu/wp-content/uploads/2025-Emmet-Otter-Jug-Band-Opening-Show-and-Campus-Dec.-6-499-scaled.jpg
ORGANIZER;CN="Music and Theatre Department":MAILTO:ebtucker@ferrum.edu
END:VEVENT
END:VCALENDAR